BEGIN:VCALENDAR
VERSION:2.0
PRODID:-//ConVerve GmbH//B2BMatch//EN
METHOD:PUBLISH
BEGIN:VEVENT
DTSTART:20250403T050000Z
DTEND:20250406T210000Z
SUMMARY:Faroe Islands Fam-Shop 2025
LOCATION:Við Tjarnir 
DESCRIPTION:
UID:0000001
DTSTAMP:20180215T145139Z
END:VEVENT
END:VCALENDAR
